BEGIN:VCALENDAR
VERSION:2.0
PRODID:-//Internetseite der Stadt Elsterwerda - ECPv6.15.18//NONSGML v1.0//EN
CALSCALE:GREGORIAN
METHOD:PUBLISH
X-ORIGINAL-URL:https://www.elsterwerda.de
X-WR-CALDESC:Veranstaltungen für Internetseite der Stadt Elsterwerda
REFRESH-INTERVAL;VALUE=DURATION:PT1H
X-Robots-Tag:noindex
X-PUBLISHED-TTL:PT1H
BEGIN:VTIMEZONE
TZID:Europe/Berlin
BEGIN:DAYLIGHT
TZOFFSETFROM:+0100
TZOFFSETTO:+0200
TZNAME:CEST
DTSTART:20250330T010000
END:DAYLIGHT
BEGIN:STANDARD
TZOFFSETFROM:+0200
TZOFFSETTO:+0100
TZNAME:CET
DTSTART:20251026T010000
END:STANDARD
BEGIN:DAYLIGHT
TZOFFSETFROM:+0100
TZOFFSETTO:+0200
TZNAME:CEST
DTSTART:20260329T010000
END:DAYLIGHT
BEGIN:STANDARD
TZOFFSETFROM:+0200
TZOFFSETTO:+0100
TZNAME:CET
DTSTART:20261025T010000
END:STANDARD
BEGIN:DAYLIGHT
TZOFFSETFROM:+0100
TZOFFSETTO:+0200
TZNAME:CEST
DTSTART:20270328T010000
END:DAYLIGHT
BEGIN:STANDARD
TZOFFSETFROM:+0200
TZOFFSETTO:+0100
TZNAME:CET
DTSTART:20271031T010000
END:STANDARD
END:VTIMEZONE
BEGIN:VEVENT
DTSTART;TZID=Europe/Berlin:20260316T000000
DTEND;TZID=Europe/Berlin:20260531T235959
DTSTAMP:20260421T105926
CREATED:20260210T161030Z
LAST-MODIFIED:20260331T133226Z
UID:10001959-1773619200-1780271999@www.elsterwerda.de
SUMMARY:Neue Ausstellung von Margitta Reiss
DESCRIPTION:Öffnungszeiten der Stadtbibliothek: \n\n\n\nMontag10:00 – 16:00 UhrDienstag10:00 – 19:00 UhrMittwochgeschlossenDonnerstag 09:00 – 18:00 UhrFreitag09:00 – 15:00 Uhr
URL:https://www.elsterwerda.de/veranstaltung/neue-ausstellung-von-margitta-reiss/
LOCATION:Stadtbibliothek Elsterwerda\, Hauptstr. 13\, Elsterwerda\, 04910\, Deutschland
GEO:51.4571937;13.5230627
X-APPLE-STRUCTURED-LOCATION;VALUE=URI;X-ADDRESS=Stadtbibliothek Elsterwerda Hauptstr. 13 Elsterwerda 04910 Deutschland;X-APPLE-RADIUS=500;X-TITLE=Hauptstr. 13:geo:13.5230627,51.4571937
END:VEVENT
BEGIN:VEVENT
DTSTART;TZID=Europe/Berlin:20260417T140000
DTEND;TZID=Europe/Berlin:20260510T170000
DTSTAMP:20260421T105926
CREATED:20260123T124740Z
LAST-MODIFIED:20260210T162745Z
UID:10001914-1776434400-1778432400@www.elsterwerda.de
SUMMARY:Ausstellung Elsterschloss Gymnasium
DESCRIPTION:Unser Gymnasium präsentiert in einer Fotodokumentation den 2. Kunstpfad\, eine temporäre Kunstaktion an verschiedenen Orten in Elsterwerda. \n\n\n\nDie Galerie ist Freitag bis Sonntag von 14:00 bis 17:00 Uhr geöffnet.
URL:https://www.elsterwerda.de/veranstaltung/ausstellung-elsterschloss-gymnasium/
LOCATION:Kleine Galerie „Hans Nadler“\, Hauptstraße 29\, Elsterwerda\, Brandenburg\, 04924\, Deutschland
ORGANIZER;CN="Heimatverein Elsterwerda und Umgebung e.V.":MAILTO:anjaheinrich.ee@t-online.de
GEO:51.4632578;13.5202201
X-APPLE-STRUCTURED-LOCATION;VALUE=URI;X-ADDRESS=Kleine Galerie „Hans Nadler“ Hauptstraße 29 Elsterwerda Brandenburg 04924 Deutschland;X-APPLE-RADIUS=500;X-TITLE=Hauptstraße 29:geo:13.5202201,51.4632578
END:VEVENT
BEGIN:VEVENT
DTSTART;TZID=Europe/Berlin:20260423T150000
DTEND;TZID=Europe/Berlin:20260423T170000
DTSTAMP:20260421T105926
CREATED:20260319T152859Z
LAST-MODIFIED:20260319T152900Z
UID:10002015-1776956400-1776963600@www.elsterwerda.de
SUMMARY:Seniorenkaffee "Kuchen und Geschichten von hier und aus der Gegend"
DESCRIPTION:Wir laden herzlich ein zum ersten Seniorenkaffee der Stadtbibliothek Elsterwerda. \n\n\n\nIm Foyer des Stadthauses servieren wir Ihnen heißen Kaffee\, Kuchen vom Café Melange aus Elsterwerda und sagenhafte und lustige Geschichten aus Elsterwerda und Umgebung. \n\n\n\nFür die Planung und Kuchenbestellung erbitten wir eine verbindliche Anmeldung bis spätestens 17.04.2026 in der Stadtbibliothek Elsterwerda. \n\n\n\nIn Vorfreude auf einen schönen Nachmittag \n\n\n\nIhr Team der Stadtbibliothek
URL:https://www.elsterwerda.de/veranstaltung/seniorenkaffee-kuchen-und-geschichten-von-hier-und-aus-der-gegend/
LOCATION:Stadthaus Elsterwerda\, Hauptstraße 13\, Elsterwerda\, Brandenburg\, 04910\, Deutschland
ORGANIZER;CN="Stadtbibliothek Elsterwerda":MAILTO:stadtbibliothek@elsterwerda.de
GEO:51.4571937;13.5230627
X-APPLE-STRUCTURED-LOCATION;VALUE=URI;X-ADDRESS=Stadthaus Elsterwerda Hauptstraße 13 Elsterwerda Brandenburg 04910 Deutschland;X-APPLE-RADIUS=500;X-TITLE=Hauptstraße 13:geo:13.5230627,51.4571937
END:VEVENT
BEGIN:VEVENT
DTSTART;TZID=Europe/Berlin:20260425T100000
DTEND;TZID=Europe/Berlin:20260425T160000
DTSTAMP:20260421T105926
CREATED:20260414T115217Z
LAST-MODIFIED:20260414T115218Z
UID:10002019-1777111200-1777132800@www.elsterwerda.de
SUMMARY:Tag der offenen Tür der Gedenkstätte des KZ-Außenlagers Schlieben-Berga
DESCRIPTION:
URL:https://www.elsterwerda.de/veranstaltung/tag-der-offenen-tuer-der-gedenkstaette-des-kz-aussenlagers-schlieben-berga/
LOCATION:Gedenkstätte KZ-Außenlager Schlieben\, Straße der Arbeit 41\, 04936 Schlieben OT Berga
END:VEVENT
BEGIN:VEVENT
DTSTART;TZID=Europe/Berlin:20260425T140000
DTEND;TZID=Europe/Berlin:20260425T170000
DTSTAMP:20260421T105926
CREATED:20260115T142617Z
LAST-MODIFIED:20260128T150308Z
UID:10001924-1777125600-1777136400@www.elsterwerda.de
SUMMARY:Auf alten Heidewegen… „Kräuter- und Erlebnistour durch die Heidelandschaft um Kraupa“
DESCRIPTION:Bettina Beyer entführt den Besucher mit kurzweiligen Geschichten in die ausgedehnten Kiefernwaldungen rund um Kraupa. \n\n\n\nWir entdecken unterschiedliche Kräuter am Wegesrand und erfahren viel Wissenswertes zu Bäumen\, Sträuchern\, deren Heilkraft und Brauchtum. Über die vielfältigen Anwendungsgebiete dieser Zauberpflanzen wird ausreichend informiert.  \n\n\n\nIm Anschluss kann der Besucher bei schmackhaften Tee und leckeren Kräuterspezialitäten den Alltag hinter sich lassen und in die Welt der „Delikatessen am Wegesrand“ eintauchen. Außerdem kann eine bewegliche Miniaturanlage\, welche die ehemalige Kraupaer Mühle und ihr Umfeld gezeigt\, bestaunt werden. \n\n\n\nPreis: 6\,- EUR / p. P. \n\n\n\nTreffpunkt: Waldparkplatz\, Mühlenstraße in Kraupa \n\n\n\nAnmeldung: Kraupa: 0162 5655368 oder „Stadtinformation“\, Rathaus Elsterwerda: 03533 650
URL:https://www.elsterwerda.de/veranstaltung/auf-alten-heidewegen-kraeuter-und-erlebnistour-durch-die-heidelandschaft-um-kraupa/2026-04-25/
LOCATION:Brandenburg
ATTACH;FMTTYPE=image/webp:https://www.elsterwerda.de/wp-content/uploads/2026/01/Kraeuter-in-Kiefernwald-rund-um-Kraupa.webp
END:VEVENT
BEGIN:VEVENT
DTSTART;TZID=Europe/Berlin:20260426T000000
DTEND;TZID=Europe/Berlin:20260426T235959
DTSTAMP:20260421T105926
CREATED:20260416T095557Z
LAST-MODIFIED:20260416T095558Z
UID:10002021-1777161600-1777247999@www.elsterwerda.de
SUMMARY:RC im Park - Motoren an und los geht´s! (freies Training)
DESCRIPTION:
URL:https://www.elsterwerda.de/veranstaltung/rc-im-park-motoren-an-und-los-gehts-freies-training/
LOCATION:Kleine Lausitz Erlebnis- und Miniaturenpark Elsterwerda\, Furtbrückwiese 1\, Elsterwerda\, Brandenburg\, 04910\, Deutschland
GEO:51.4587414;13.5448674
X-APPLE-STRUCTURED-LOCATION;VALUE=URI;X-ADDRESS=Kleine Lausitz Erlebnis- und Miniaturenpark Elsterwerda Furtbrückwiese 1 Elsterwerda Brandenburg 04910 Deutschland;X-APPLE-RADIUS=500;X-TITLE=Furtbrückwiese 1:geo:13.5448674,51.4587414
END:VEVENT
BEGIN:VEVENT
DTSTART;TZID=Europe/Berlin:20260428T153000
DTEND;TZID=Europe/Berlin:20260428T163000
DTSTAMP:20260421T105926
CREATED:20260128T144828Z
LAST-MODIFIED:20260128T144829Z
UID:10001828-1777390200-1777393800@www.elsterwerda.de
SUMMARY:Stadtteiltreffen Elsterwerda West
DESCRIPTION:
URL:https://www.elsterwerda.de/veranstaltung/stadtteiltreffen-elsterwerda-west/2026-04-28/
LOCATION:Pro Civitate Seniorenzentrum\, Straße des Oktober 11-13\, Elsterwerda\, 04910\, Deutschland
ORGANIZER;CN="Pro Civitate Seniorenzentrum Elsterwerda":MAILTO:hl.elsterwerda@procivitate.de
GEO:51.7411272;13.862387
X-APPLE-STRUCTURED-LOCATION;VALUE=URI;X-ADDRESS=Pro Civitate Seniorenzentrum Straße des Oktober 11-13 Elsterwerda 04910 Deutschland;X-APPLE-RADIUS=500;X-TITLE=Straße des Oktober 11-13:geo:13.862387,51.7411272
END:VEVENT
BEGIN:VEVENT
DTSTART;TZID=Europe/Berlin:20260430T180000
DTEND;TZID=Europe/Berlin:20260430T180000
DTSTAMP:20260421T105926
CREATED:20260410T095225Z
LAST-MODIFIED:20260410T095456Z
UID:10002018-1777572000-1777572000@www.elsterwerda.de
SUMMARY:Maibaumstellen
DESCRIPTION:
URL:https://www.elsterwerda.de/veranstaltung/maibaumstellen/
LOCATION:Biehlaer Glockenturm\, Breite Straße 1A\, Elsterwerda\, 04910\, Deutschland
GEO:51.4717268;13.5021041
X-APPLE-STRUCTURED-LOCATION;VALUE=URI;X-ADDRESS=Biehlaer Glockenturm Breite Straße 1A Elsterwerda 04910 Deutschland;X-APPLE-RADIUS=500;X-TITLE=Breite Straße 1A:geo:13.5021041,51.4717268
END:VEVENT
BEGIN:VEVENT
DTSTART;TZID=Europe/Berlin:20260501T100000
DTEND;TZID=Europe/Berlin:20260501T160000
DTSTAMP:20260421T105926
CREATED:20260305T125153Z
LAST-MODIFIED:20260326T161712Z
UID:10001995-1777629600-1777651200@www.elsterwerda.de
SUMMARY:Bürgermeisterpokal
DESCRIPTION:Folgende Mannschaften (D-Junioren) treten im Turnier gegeneinander an: \n\n\n\nSV Preußen Elsterwerda\, FV Gröditz 1911\, SpVgg Finsterwalde\, SC Borea Dresden\, SG Bühlau 09\, 1. FC Lok Leipzig\, BFC Dynamo\, VSG Altglienicke\, FSV 63 Luckenwalde\, Großenhainer FV 90 \n\n\n\n\n\n\n\n 
URL:https://www.elsterwerda.de/veranstaltung/buergermeisterpokal/
LOCATION:Sportplatz Holzhof\, Holzhof\, Elsterwerda\, Brandenburg\, 04910\, Deutschland
ATTACH;FMTTYPE=image/jpeg:https://www.elsterwerda.de/wp-content/uploads/2026/03/Fussball-scaled.jpg
GEO:51.4461518;13.5168766
X-APPLE-STRUCTURED-LOCATION;VALUE=URI;X-ADDRESS=Sportplatz Holzhof Holzhof Elsterwerda Brandenburg 04910 Deutschland;X-APPLE-RADIUS=500;X-TITLE=Holzhof:geo:13.5168766,51.4461518
END:VEVENT
BEGIN:VEVENT
DTSTART;TZID=Europe/Berlin:20260501T100000
DTEND;TZID=Europe/Berlin:20260501T180000
DTSTAMP:20260421T105926
CREATED:20260317T103634Z
LAST-MODIFIED:20260317T103636Z
UID:10002014-1777629600-1777658400@www.elsterwerda.de
SUMMARY:Blütenfest
DESCRIPTION:
URL:https://www.elsterwerda.de/veranstaltung/bluetenfest/
LOCATION:Pomologischer Schau- und Lehrgarten Döllingen\, An der Umgehungsstraße\, Döllingen\, 04928\, Deutschland
ORGANIZER;CN="Kerngeh%C3%A4use e.V.":MAILTO:Andrea.Opitz@LUGV.brandenburg.de
GEO:51.4912064;13.5920052
X-APPLE-STRUCTURED-LOCATION;VALUE=URI;X-ADDRESS=Pomologischer Schau- und Lehrgarten Döllingen An der Umgehungsstraße Döllingen 04928 Deutschland;X-APPLE-RADIUS=500;X-TITLE=An der Umgehungsstraße:geo:13.5920052,51.4912064
END:VEVENT
BEGIN:VEVENT
DTSTART;TZID=Europe/Berlin:20260501T110000
DTEND;TZID=Europe/Berlin:20260501T110000
DTSTAMP:20260421T105926
CREATED:20260305T125413Z
LAST-MODIFIED:20260416T095757Z
UID:10001996-1777633200-1777633200@www.elsterwerda.de
SUMMARY:Maifeiertag mit "Happy Harmony" im Biergarten
DESCRIPTION:
URL:https://www.elsterwerda.de/veranstaltung/maifeiertag-mit-happy-harmony-im-biergarten/
LOCATION:Kleine Lausitz Erlebnis- und Miniaturenpark Elsterwerda\, Furtbrückwiese 1\, Elsterwerda\, Brandenburg\, 04910\, Deutschland
GEO:51.4587414;13.5448674
X-APPLE-STRUCTURED-LOCATION;VALUE=URI;X-ADDRESS=Kleine Lausitz Erlebnis- und Miniaturenpark Elsterwerda Furtbrückwiese 1 Elsterwerda Brandenburg 04910 Deutschland;X-APPLE-RADIUS=500;X-TITLE=Furtbrückwiese 1:geo:13.5448674,51.4587414
END:VEVENT
BEGIN:VEVENT
DTSTART;TZID=Europe/Berlin:20260502T100000
DTEND;TZID=Europe/Berlin:20260503T160000
DTSTAMP:20260421T105926
CREATED:20260305T125721Z
LAST-MODIFIED:20260416T100019Z
UID:10001997-1777716000-1777824000@www.elsterwerda.de
SUMMARY:Freundschaftsrennen Ostdeutsche Meisterschaft RC
DESCRIPTION:
URL:https://www.elsterwerda.de/veranstaltung/freundschaftsrennen-ostdeutsche-meisterschaft-rc/
LOCATION:Kleine Lausitz Erlebnis- und Miniaturenpark Elsterwerda\, Furtbrückwiese 1\, Elsterwerda\, Brandenburg\, 04910\, Deutschland
GEO:51.4587414;13.5448674
X-APPLE-STRUCTURED-LOCATION;VALUE=URI;X-ADDRESS=Kleine Lausitz Erlebnis- und Miniaturenpark Elsterwerda Furtbrückwiese 1 Elsterwerda Brandenburg 04910 Deutschland;X-APPLE-RADIUS=500;X-TITLE=Furtbrückwiese 1:geo:13.5448674,51.4587414
END:VEVENT
BEGIN:VEVENT
DTSTART;TZID=Europe/Berlin:20260508T193000
DTEND;TZID=Europe/Berlin:20260508T220000
DTSTAMP:20260421T105926
CREATED:20260210T163403Z
LAST-MODIFIED:20260210T163405Z
UID:10001962-1778268600-1778277600@www.elsterwerda.de
SUMMARY:Weinprobe Vinothek „Weinplanet“ mit Top-Winzer Oliver Zeter
DESCRIPTION:Weinplanet bietet eine Weinprobe mit dem Top-Winzer Oliver Zeter aus der Pfalz an. \n\n\n\nTeilnahme nur mit Anmeldung! \n\n\n\ntelefonisch03533-163110 \n\n\n\noder per Mailmatthiasjohn@as-gastro.de
URL:https://www.elsterwerda.de/veranstaltung/weinprobe-vinothek-weinplanet-mit-top-winzer-oliver-zeter/
LOCATION:Brandenburg
END:VEVENT
BEGIN:VEVENT
DTSTART;TZID=Europe/Berlin:20260509T000000
DTEND;TZID=Europe/Berlin:20260509T235959
DTSTAMP:20260421T105926
CREATED:20260302T114939Z
LAST-MODIFIED:20260302T114940Z
UID:10001988-1778284800-1778371199@www.elsterwerda.de
SUMMARY:Frühlingskonzert der Kreismusik- und Kunstschule Gebrüder Graun
DESCRIPTION:
URL:https://www.elsterwerda.de/veranstaltung/fruehlingskonzert-der-kreismusik-und-kunstschule-gebrueder-graun/
LOCATION:Friedrich-Starke-Grundschule\, Mittelstraße 18\, Elsterwerda\, Brandenburg\, 04910\, Deutschland
ORGANIZER;CN="Kreismusikschule 'Gebr%C3%BCder Graun'":MAILTO:musikschule.eda@lkee.de
GEO:51.4702431;13.5031621
X-APPLE-STRUCTURED-LOCATION;VALUE=URI;X-ADDRESS=Friedrich-Starke-Grundschule Mittelstraße 18 Elsterwerda Brandenburg 04910 Deutschland;X-APPLE-RADIUS=500;X-TITLE=Mittelstraße 18:geo:13.5031621,51.4702431
END:VEVENT
BEGIN:VEVENT
DTSTART;TZID=Europe/Berlin:20260509T000000
DTEND;TZID=Europe/Berlin:20260509T235959
DTSTAMP:20260421T105926
CREATED:20260305T130832Z
LAST-MODIFIED:20260305T130833Z
UID:10001999-1778284800-1778371199@www.elsterwerda.de
SUMMARY:Karl-Heinz Peschel Gedenk-Turnier
DESCRIPTION:
URL:https://www.elsterwerda.de/veranstaltung/karl-heinz-peschel-gedenk-turnier/
LOCATION:Dorfgemeinschaftshaus Kraupa\, Dorfstraße 10\, Elsterwerda OT Kraupa\, 04910\, Germany
GEO:51.494587;13.5058944
X-APPLE-STRUCTURED-LOCATION;VALUE=URI;X-ADDRESS=Dorfgemeinschaftshaus Kraupa Dorfstraße 10 Elsterwerda OT Kraupa 04910 Germany;X-APPLE-RADIUS=500;X-TITLE=Dorfstraße 10:geo:13.5058944,51.494587
END:VEVENT
BEGIN:VEVENT
DTSTART;TZID=Europe/Berlin:20260509T130000
DTEND;TZID=Europe/Berlin:20260509T170000
DTSTAMP:20260421T105926
CREATED:20260305T130226Z
LAST-MODIFIED:20260305T130227Z
UID:10001998-1778331600-1778346000@www.elsterwerda.de
SUMMARY:Gedenkpokal Dieter Saaro
DESCRIPTION:
URL:https://www.elsterwerda.de/veranstaltung/gedenkpokal-dieter-saaro-2/
LOCATION:Brücke Zeischa
END:VEVENT
BEGIN:VEVENT
DTSTART;TZID=Europe/Berlin:20260510T080000
DTEND;TZID=Europe/Berlin:20260510T120000
DTSTAMP:20260421T105926
CREATED:20260203T162458Z
LAST-MODIFIED:20260203T162459Z
UID:10001952-1778400000-1778414400@www.elsterwerda.de
SUMMARY:Muttertagsfrühstück im Café Melange
DESCRIPTION:
URL:https://www.elsterwerda.de/veranstaltung/muttertagsfruehstueck-im-cafe-melange/
LOCATION:Café Melange\, Am Markt 1\, 04910 Elsterwerda
GEO:51.4578255;13.5235737
X-APPLE-STRUCTURED-LOCATION;VALUE=URI;X-ADDRESS=Café Melange Am Markt 1 04910 Elsterwerda;X-APPLE-RADIUS=500;X-TITLE=Am Markt 1:geo:13.5235737,51.4578255
END:VEVENT
BEGIN:VEVENT
DTSTART;TZID=Europe/Berlin:20260510T100000
DTEND;TZID=Europe/Berlin:20260510T120000
DTSTAMP:20260421T105926
CREATED:20260210T163732Z
LAST-MODIFIED:20260210T163733Z
UID:10001963-1778407200-1778414400@www.elsterwerda.de
SUMMARY:Familienkirche
DESCRIPTION:
URL:https://www.elsterwerda.de/veranstaltung/familienkirche-3/
LOCATION:Stadtkirche „St. Catharina“\, Hauptstraße 41\, Elsterwerda\, 04910\, Deutschland
GEO:51.4560618;13.5242567
X-APPLE-STRUCTURED-LOCATION;VALUE=URI;X-ADDRESS=Stadtkirche „St. Catharina“ Hauptstraße 41 Elsterwerda 04910 Deutschland;X-APPLE-RADIUS=500;X-TITLE=Hauptstraße 41:geo:13.5242567,51.4560618
END:VEVENT
BEGIN:VEVENT
DTSTART;TZID=Europe/Berlin:20260514T100000
DTEND;TZID=Europe/Berlin:20260514T180000
DTSTAMP:20260421T105926
CREATED:20260305T130953Z
LAST-MODIFIED:20260416T105948Z
UID:10002000-1778752800-1778781600@www.elsterwerda.de
SUMMARY:Himmelfahrt im Biergarten
DESCRIPTION:
URL:https://www.elsterwerda.de/veranstaltung/himmelfahrt-im-biergarten/
LOCATION:Kleine Lausitz Erlebnis- und Miniaturenpark Elsterwerda\, Furtbrückwiese 1\, Elsterwerda\, Brandenburg\, 04910\, Deutschland
GEO:51.4587414;13.5448674
X-APPLE-STRUCTURED-LOCATION;VALUE=URI;X-ADDRESS=Kleine Lausitz Erlebnis- und Miniaturenpark Elsterwerda Furtbrückwiese 1 Elsterwerda Brandenburg 04910 Deutschland;X-APPLE-RADIUS=500;X-TITLE=Furtbrückwiese 1:geo:13.5448674,51.4587414
END:VEVENT
BEGIN:VEVENT
DTSTART;TZID=Europe/Berlin:20260515T140000
DTEND;TZID=Europe/Berlin:20260712T170000
DTSTAMP:20260421T105926
CREATED:20260123T125006Z
LAST-MODIFIED:20260123T125007Z
UID:10001915-1778853600-1783875600@www.elsterwerda.de
SUMMARY:Ausstellung Danny Linwerk
DESCRIPTION:Seine Werke reflektieren eine eindrucksvolle Farbwelt voller Emotionen\, Alltagsmomente und poetischer Intensität. Die Ausstellung präsentiert aktuelle Werke des Dresdner Künstlers\, in denenFarbe\, Licht und Erinnerung zu kraftvollen Bildern verschmelzen. \n\n\n\nDie Galerie ist Freitag bis Sonntag von 14:00 bis 17:00 Uhr geöffnet.
URL:https://www.elsterwerda.de/veranstaltung/ausstellung-danny-linwerk/
LOCATION:Kleine Galerie „Hans Nadler“\, Hauptstraße 29\, Elsterwerda\, Brandenburg\, 04924\, Deutschland
ORGANIZER;CN="Heimatverein Elsterwerda und Umgebung e.V.":MAILTO:anjaheinrich.ee@t-online.de
GEO:51.4632578;13.5202201
X-APPLE-STRUCTURED-LOCATION;VALUE=URI;X-ADDRESS=Kleine Galerie „Hans Nadler“ Hauptstraße 29 Elsterwerda Brandenburg 04924 Deutschland;X-APPLE-RADIUS=500;X-TITLE=Hauptstraße 29:geo:13.5202201,51.4632578
END:VEVENT
BEGIN:VEVENT
DTSTART;TZID=Europe/Berlin:20260516T130000
DTEND;TZID=Europe/Berlin:20260516T170000
DTSTAMP:20260421T105926
CREATED:20260216T165313Z
LAST-MODIFIED:20260216T165314Z
UID:10001984-1778936400-1778950800@www.elsterwerda.de
SUMMARY:I. Hegefischen Elster/OT Wahrenbrück
DESCRIPTION:
URL:https://www.elsterwerda.de/veranstaltung/i-hegefischen-elster-ot-wahrenbrueck/
LOCATION:04924 Uebigau-Wahrenbrück OT Wahrenbrück
END:VEVENT
BEGIN:VEVENT
DTSTART;TZID=Europe/Berlin:20260516T140000
DTEND;TZID=Europe/Berlin:20260516T170000
DTSTAMP:20260421T105926
CREATED:20260115T142617Z
LAST-MODIFIED:20260128T150308Z
UID:10001925-1778940000-1778950800@www.elsterwerda.de
SUMMARY:Auf alten Heidewegen… „Kräuter- und Erlebnistour durch die Heidelandschaft um Kraupa“
DESCRIPTION:Bettina Beyer entführt den Besucher mit kurzweiligen Geschichten in die ausgedehnten Kiefernwaldungen rund um Kraupa. \n\n\n\nWir entdecken unterschiedliche Kräuter am Wegesrand und erfahren viel Wissenswertes zu Bäumen\, Sträuchern\, deren Heilkraft und Brauchtum. Über die vielfältigen Anwendungsgebiete dieser Zauberpflanzen wird ausreichend informiert.  \n\n\n\nIm Anschluss kann der Besucher bei schmackhaften Tee und leckeren Kräuterspezialitäten den Alltag hinter sich lassen und in die Welt der „Delikatessen am Wegesrand“ eintauchen. Außerdem kann eine bewegliche Miniaturanlage\, welche die ehemalige Kraupaer Mühle und ihr Umfeld gezeigt\, bestaunt werden. \n\n\n\nPreis: 6\,- EUR / p. P. \n\n\n\nTreffpunkt: Waldparkplatz\, Mühlenstraße in Kraupa \n\n\n\nAnmeldung: Kraupa: 0162 5655368 oder „Stadtinformation“\, Rathaus Elsterwerda: 03533 650
URL:https://www.elsterwerda.de/veranstaltung/auf-alten-heidewegen-kraeuter-und-erlebnistour-durch-die-heidelandschaft-um-kraupa/2026-05-16/
LOCATION:Brandenburg
ATTACH;FMTTYPE=image/webp:https://www.elsterwerda.de/wp-content/uploads/2026/01/Kraeuter-in-Kiefernwald-rund-um-Kraupa.webp
END:VEVENT
BEGIN:VEVENT
DTSTART;TZID=Europe/Berlin:20260521T150000
DTEND;TZID=Europe/Berlin:20260521T170000
DTSTAMP:20260421T105926
CREATED:20240722T095434Z
LAST-MODIFIED:20240722T095437Z
UID:10001044-1779375600-1779382800@www.elsterwerda.de
SUMMARY:Trauercafé Elsterwerda
DESCRIPTION:
URL:https://www.elsterwerda.de/veranstaltung/trauercafe-elsterwerda/2026-05-21/
LOCATION:Kirchengemeinde Gemeinderaum\, Kirchstraße 1\, Elsterwerda\, 04910\, Deutschland
GEO:51.4569887;13.5239572
X-APPLE-STRUCTURED-LOCATION;VALUE=URI;X-ADDRESS=Kirchengemeinde Gemeinderaum Kirchstraße 1 Elsterwerda 04910 Deutschland;X-APPLE-RADIUS=500;X-TITLE=Kirchstraße 1:geo:13.5239572,51.4569887
END:VEVENT
BEGIN:VEVENT
DTSTART;TZID=Europe/Berlin:20260523T100000
DTEND;TZID=Europe/Berlin:20260523T100000
DTSTAMP:20260421T105926
CREATED:20251204T121840Z
LAST-MODIFIED:20251204T121841Z
UID:10001842-1779530400-1779530400@www.elsterwerda.de
SUMMARY:Volleyball-Turnier
DESCRIPTION:
URL:https://www.elsterwerda.de/veranstaltung/volleyball-turnier/
LOCATION:Sportplatz Kraupa\, Schulstraße 2\, Kraupa\, Brandenburg\, 04910\, Deutschland
ORGANIZER;CN="Jugendclub 'Banane' Kraupa":MAILTO:info@jcb-kraupa.de
GEO:51.4931299;13.5090397
X-APPLE-STRUCTURED-LOCATION;VALUE=URI;X-ADDRESS=Sportplatz Kraupa Schulstraße 2 Kraupa Brandenburg 04910 Deutschland;X-APPLE-RADIUS=500;X-TITLE=Schulstraße 2:geo:13.5090397,51.4931299
END:VEVENT
BEGIN:VEVENT
DTSTART;TZID=Europe/Berlin:20260524T000000
DTEND;TZID=Europe/Berlin:20260524T235959
DTSTAMP:20260421T105926
CREATED:20260216T155842Z
LAST-MODIFIED:20260216T155843Z
UID:10001979-1779580800-1779667199@www.elsterwerda.de
SUMMARY:Führung Winterberg und Wasserturm
DESCRIPTION:Anmeldung per Mail: verein.wasserturm.biehla@gmail.com
URL:https://www.elsterwerda.de/veranstaltung/fuehrung-winterberg-und-wasserturm/
LOCATION:Am Haag 11\, 04910 Elsterwerda
ORGANIZER;CN="Verband der Gartenfreunde S%C3%BCdbrandenburg e.V.":MAILTO:regionalverband.suedbb@gmail.com
END:VEVENT
BEGIN:VEVENT
DTSTART;TZID=Europe/Berlin:20260525T000000
DTEND;TZID=Europe/Berlin:20260525T235959
DTSTAMP:20260421T105926
CREATED:20260305T131215Z
LAST-MODIFIED:20260416T110203Z
UID:10002001-1779667200-1779753599@www.elsterwerda.de
SUMMARY:Pfingstmontag - Mühlentag
DESCRIPTION:
URL:https://www.elsterwerda.de/veranstaltung/muehlentag/
LOCATION:Kleine Lausitz Erlebnis- und Miniaturenpark Elsterwerda\, Furtbrückwiese 1\, Elsterwerda\, Brandenburg\, 04910\, Deutschland
GEO:51.4587414;13.5448674
X-APPLE-STRUCTURED-LOCATION;VALUE=URI;X-ADDRESS=Kleine Lausitz Erlebnis- und Miniaturenpark Elsterwerda Furtbrückwiese 1 Elsterwerda Brandenburg 04910 Deutschland;X-APPLE-RADIUS=500;X-TITLE=Furtbrückwiese 1:geo:13.5448674,51.4587414
END:VEVENT
BEGIN:VEVENT
DTSTART;TZID=Europe/Berlin:20260526T153000
DTEND;TZID=Europe/Berlin:20260526T163000
DTSTAMP:20260421T105926
CREATED:20260128T144828Z
LAST-MODIFIED:20260128T144829Z
UID:10001829-1779809400-1779813000@www.elsterwerda.de
SUMMARY:Stadtteiltreffen Elsterwerda West
DESCRIPTION:
URL:https://www.elsterwerda.de/veranstaltung/stadtteiltreffen-elsterwerda-west/2026-05-26/
LOCATION:Pro Civitate Seniorenzentrum\, Straße des Oktober 11-13\, Elsterwerda\, 04910\, Deutschland
ORGANIZER;CN="Pro Civitate Seniorenzentrum Elsterwerda":MAILTO:hl.elsterwerda@procivitate.de
GEO:51.7411272;13.862387
X-APPLE-STRUCTURED-LOCATION;VALUE=URI;X-ADDRESS=Pro Civitate Seniorenzentrum Straße des Oktober 11-13 Elsterwerda 04910 Deutschland;X-APPLE-RADIUS=500;X-TITLE=Straße des Oktober 11-13:geo:13.862387,51.7411272
END:VEVENT
BEGIN:VEVENT
DTSTART;TZID=Europe/Berlin:20260531T060000
DTEND;TZID=Europe/Berlin:20260531T120000
DTSTAMP:20260421T105926
CREATED:20260305T131734Z
LAST-MODIFIED:20260305T132003Z
UID:10002002-1780207200-1780228800@www.elsterwerda.de
SUMMARY:Kreisliches Hegefischen in Neumühl
DESCRIPTION:Anmeld. bis 25.05.2026 \n\n\n\nTel. 03533-4482
URL:https://www.elsterwerda.de/veranstaltung/kreisliches-hegefischen-in-neumuehl/
LOCATION:Neumühl
ORGANIZER;CN="Kreisanglerverband Bad Liebenwerda":MAILTO:info@Elbe-Elster-Anglerverband-Bad-Liebenwerda.de
END:VEVENT
BEGIN:VEVENT
DTSTART;TZID=Europe/Berlin:20260603T140000
DTEND;TZID=Europe/Berlin:20260603T170000
DTSTAMP:20260421T105926
CREATED:20260210T164238Z
LAST-MODIFIED:20260416T114301Z
UID:10001964-1780495200-1780506000@www.elsterwerda.de
SUMMARY:Tag der Senioren
DESCRIPTION:
URL:https://www.elsterwerda.de/veranstaltung/tag-der-senioren/
LOCATION:Markt Elsterwerda\, Am Markt\, Elsterwerda\, Brandenburg\, 04910\, Deutschland
ORGANIZER;CN="Pro Civitate Seniorenzentrum Elsterwerda":MAILTO:hl.elsterwerda@procivitate.de
GEO:51.457949;13.5236863
X-APPLE-STRUCTURED-LOCATION;VALUE=URI;X-ADDRESS=Markt Elsterwerda Am Markt Elsterwerda Brandenburg 04910 Deutschland;X-APPLE-RADIUS=500;X-TITLE=Am Markt:geo:13.5236863,51.457949
END:VEVENT
BEGIN:VEVENT
DTSTART;TZID=Europe/Berlin:20260604T000000
DTEND;TZID=Europe/Berlin:20260607T235959
DTSTAMP:20260421T105926
CREATED:20260210T164833Z
LAST-MODIFIED:20260415T082218Z
UID:10001965-1780531200-1780876799@www.elsterwerda.de
SUMMARY:Stadtpark Open Air
DESCRIPTION:Stadtpark Open Air Elsterwerda vom 04. bis 07. Juni 2026Vier Tage voller Kultur\, Live-Musik\, Party\, Familienerlebnisse und besonderer Festivalmomente machen den Stadtpark Elsterwerda zum Treffpunkt für alle Generationen. \n\n\n\nDonnerstag\, 4. Juni | 18:00 – 22:00Der Festivalauftakt wird besonders: Mit der musikalischen Schauspiellesung „Keine Hochzeit ist auch keine Lösung“ von Susann Kloss erwartet das Publikum ein stimmungsvoller Mix aus Schauspiel\, Lesung und Gesang – begleitet von Saxophonist Frank Widzgowski aus Cottbus.Eintritt: 12 € ermäßigt oder mit gültigem Bibliotheksausweis 10 € \n\n\n\nFreitag\, 5. Juni | Einlass ab 18 UhrDer Freitag steht ganz im Zeichen der Jugend. Von Live-Musik und Partystimmung: Mit den „TON CHAOTEN“ aus Spremberg\, weiteren musikalischen Beiträgen unserer Musikschule und einem DJ-Finale mit DJ RICHI und DJ MAD Music geht es bis tief in die Nacht.Eintritt: 5 € \n\n\n\nSamstag\, 6. Juni | Einlass ab 18 UhrAm Samstag wird der Stadtpark zur Open-Air-Partyfläche: Müllerbeat und Big Fat Shaking sorgen für echte Live-Energie\, dazwischen hält DJ THOM die Stimmung konstant auf Festivalniveau.Eintritt: 8 € \n\n\n\nSonntag\, 7. Juni  | 14:00 – 17:00Der Sonntag gehört ganz den Familien: Beim großen Kindertag der Stadt Elsterwerda erwartet die Besucherinnen und Besucher ein buntes Programm mit Beiträgen der Kirche\, dem Sportensemble Esterwerda\, dem Mitmachprogramm mit Meister Blauknopf \, dem Riesaer Sportclub – ein fröhlicher Festivalabschluss für Kinder und Eltern.Eintritt: frei
URL:https://www.elsterwerda.de/veranstaltung/stadtpark-open-air/
LOCATION:Stadtpark Elsterwerda\, Berliner Str. 45a\, Elsterwerda\, Brandenburg\, 04910\, Deutschland
GEO:51.4720561;13.5127786
X-APPLE-STRUCTURED-LOCATION;VALUE=URI;X-ADDRESS=Stadtpark Elsterwerda Berliner Str. 45a Elsterwerda Brandenburg 04910 Deutschland;X-APPLE-RADIUS=500;X-TITLE=Berliner Str. 45a:geo:13.5127786,51.4720561
END:VEVENT
END:VCALENDAR